BEGIN:VCALENDAR

VERSION:2.0

PRODID:-//hacksw/handcal//NONSGML v1.0//EN

BEGIN:VEVENT

UID:55f2b87d9f5bd95c6a35d1eba6a0aeb2

DTSTAMP:20190228T232102Z

DTSTART:20190302T120000

DTEND:20190302T123000

SUMMARY:20425551 - BLI BLI

LOCATION:BLI BLI

END:VEVENT

END:VCALENDAR