BEGIN:VCALENDAR

VERSION:2.0

PRODID:-//hacksw/handcal//NONSGML v1.0//EN

BEGIN:VEVENT

UID:e2909b9c63caa61aedb000bdf5fcfa96

DTSTAMP:20190228T231650Z

DTSTART:20190302T110000

DTEND:20190302T113000

SUMMARY:20348437 - BLI BLI

LOCATION:BLI BLI

END:VEVENT

END:VCALENDAR